BEGIN:VCALENDAR
VERSION:2.0
PRODID:-//GREEN HOPE UNIVERSITY - ECPv6.15.20//NONSGML v1.0//EN
CALSCALE:GREGORIAN
METHOD:PUBLISH
X-ORIGINAL-URL:https://www.greenhopeuniversity.edu.so
X-WR-CALDESC:Events for GREEN HOPE UNIVERSITY
REFRESH-INTERVAL;VALUE=DURATION:PT1H
X-Robots-Tag:noindex
X-PUBLISHED-TTL:PT1H
BEGIN:VTIMEZONE
TZID:UTC
BEGIN:STANDARD
TZOFFSETFROM:+0000
TZOFFSETTO:+0000
TZNAME:UTC
DTSTART:20250101T000000
END:STANDARD
END:VTIMEZONE
BEGIN:VEVENT
DTSTART;TZID=UTC:20260805T080000
DTEND;TZID=UTC:20260805T170000
DTSTAMP:20260422T000757
CREATED:20260420T150936Z
LAST-MODIFIED:20260420T150936Z
UID:3811-1785916800-1785949200@www.greenhopeuniversity.edu.so
SUMMARY:14th Convocation Ceremony of Green Hope University and Kesmonds International University
DESCRIPTION:Here are a few English caption options for the poster\, ranging from professional to celebratory: \n“We are proud to announce the 14th Convocation Ceremony of Green Hope University and Kesmonds International University. Join us as we celebrate the academic excellence and achievements of our graduating class of 2026.”
URL:https://www.greenhopeuniversity.edu.so/event/14th-convocation-ceremony-of-green-hope-university-and-kesmonds-international-university/
LOCATION:Jazeera Hall\, Banaadir\, Somalia
ATTACH;FMTTYPE=image/jpeg:https://www.greenhopeuniversity.edu.so/wp-content/uploads/2026/04/GHU-AND-KIU.jpg
ORGANIZER;CN="GHU and KIU":MAILTO:admin@greenhopeuniversity.edu.so
END:VEVENT
END:VCALENDAR