BEGIN:VCALENDAR
VERSION:2.0
PRODID:-//GREEN HOPE UNIVERSITY - ECPv6.15.20//NONSGML v1.0//EN
CALSCALE:GREGORIAN
METHOD:PUBLISH
X-WR-CALNAME:GREEN HOPE UNIVERSITY
X-ORIGINAL-URL:https://www.greenhopeuniversity.edu.so
X-WR-CALDESC:Events for GREEN HOPE UNIVERSITY
REFRESH-INTERVAL;VALUE=DURATION:PT1H
X-Robots-Tag:noindex
X-PUBLISHED-TTL:PT1H
BEGIN:VTIMEZONE
TZID:UTC
BEGIN:STANDARD
TZOFFSETFROM:+0000
TZOFFSETTO:+0000
TZNAME:UTC
DTSTART:20240101T000000
END:STANDARD
END:VTIMEZONE
BEGIN:VEVENT
DTSTART;TZID=UTC:20251229T080000
DTEND;TZID=UTC:20251229T170000
DTSTAMP:20260422T002750
CREATED:20251229T144437Z
LAST-MODIFIED:20251229T144437Z
UID:2260-1766995200-1767027600@www.greenhopeuniversity.edu.so
SUMMARY:Research Conference 2026
DESCRIPTION:Research Conference 2026
URL:https://www.greenhopeuniversity.edu.so/event/research-conference-2026/
LOCATION:Jazeera Hotel\, Somalia
ATTACH;FMTTYPE=image/jpeg:https://www.greenhopeuniversity.edu.so/wp-content/uploads/2025/12/448069682_787408576903113_4561803513528470678_n-1.jpg
END:VEVENT
END:VCALENDAR